BEGIN:VCALENDAR
VERSION:2.0
PRODID:-//jEvents 1.5 for Joomla//EN
CALSCALE:GREGORIAN
METHOD:PUBLISH
BEGIN:VEVENT

UID:1044ed5e852754c01d4226c579b56c21
CATEGORIES:Default
SUMMARY:PRACTICE NIGHT
LOCATION:Northbrook Community Centre, 2 Chapman St., Dartmouth, NS
DESCRIPTION;ENCODING=QUOTED-PRINTABLE:
CONTACT:430-0190
X-EXTRAINFO:   Merry Christmas 
DTSTAMP:20260422T085443Z
DTSTART:20140326T230000Z
DTEND:20140327T020000Z
SEQUENCE:0
TRANSP:OPAQUE
END:VEVENT
END:VCALENDAR