BEGIN:VCALENDAR
VERSION:2.0
PRODID:-//jEvents 1.5 for Joomla//EN
CALSCALE:GREGORIAN
METHOD:PUBLISH
BEGIN:VEVENT

UID:48f1617a09728c926245fc30f8e89bf3
CATEGORIES:Default
SUMMARY:Practice
LOCATION:Northbrook
DESCRIPTION;ENCODING=QUOTED-PRINTABLE:<p>Regular Practice</p>

DTSTAMP:20260422T151616Z
DTSTART:20130306T120000Z
DTEND:20130307T030000Z
SEQUENCE:0
TRANSP:OPAQUE
END:VEVENT
END:VCALENDAR