BEGIN:VCALENDAR
VERSION:2.0
PRODID:-//jEvents 1.5 for Joomla//EN
CALSCALE:GREGORIAN
METHOD:PUBLISH
BEGIN:VEVENT

UID:1dfdf8fd55ac602e78d72b3d1921ccff
CATEGORIES:Default
SUMMARY:Practice
LOCATION:Northbrook Community Centre, 2 Chapman Drive, Dartmouth, NS
DESCRIPTION;ENCODING=QUOTED-PRINTABLE:<p>Regular Practice  19:00 - 22:00 hours - Guests Welcome !</p>
CONTACT:430-0190

DTSTAMP:20260422T090908Z
DTSTART:20130327T230000Z
DTEND:20130328T020000Z
SEQUENCE:0
RRULE:FREQ=WEEKLY;UNTIL=20140326T235959Z;INTERVAL=52;BYDAY=WE
TRANSP:OPAQUE
END:VEVENT
END:VCALENDAR