BEGIN:VCALENDAR
VERSION:2.0
PRODID:-//jEvents 1.5 for Joomla//EN
CALSCALE:GREGORIAN
METHOD:PUBLISH
BEGIN:VEVENT

UID:a0aae2a029dbe86066c01d8b78796058
CATEGORIES:Default
SUMMARY:Board Meeting
LOCATION:91 Baker Drive, #210 Dartmouth
DESCRIPTION;ENCODING=QUOTED-PRINTABLE:<p>Board Meeting at Carl Morash's, 91 Baker Drive, #210, Dartmouth 434-7209
 </p><p>Start Time; 6:30pm</p>
CONTACT:434-7209

DTSTAMP:20260422T135735Z
DTSTART:20130325T223000Z
DTEND:20130326T010000Z
SEQUENCE:0
TRANSP:OPAQUE
END:VEVENT
END:VCALENDAR