BEGIN:VCALENDAR
VERSION:2.0
PRODID:-//jEvents 1.5 for Joomla//EN
CALSCALE:GREGORIAN
METHOD:PUBLISH
BEGIN:VEVENT

UID:06020880b5e25d6e6aa8352ca4876a48
CATEGORIES:Default
SUMMARY:COL Chorus Practice
LOCATION:
DESCRIPTION;ENCODING=QUOTED-PRINTABLE:

DTSTAMP:20260421T083615Z
DTSTART:20150129T000000Z
DTEND:20150129T030000Z
SEQUENCE:0
RRULE:FREQ=WEEKLY;UNTIL=20151216T235959Z;INTERVAL=1;BYDAY=WE
TRANSP:OPAQUE
END:VEVENT
END:VCALENDAR