BEGIN:VCALENDAR
VERSION:2.0
PRODID:-//jEvents 1.5 for Joomla//EN
CALSCALE:GREGORIAN
METHOD:PUBLISH
BEGIN:VEVENT

UID:dc131347e7f575619611b3b80ba113b2
CATEGORIES:Default
SUMMARY:BOARD MEETING
LOCATION:BRIAN VANDERVAART's HOME
DESCRIPTION;ENCODING=QUOTED-PRINTABLE:
CONTACT:435-6261
X-EXTRAINFO:April Board Meeting
DTSTAMP:20260422T154409Z
DTSTART:20130430T103000Z
DTEND:20130501T003000Z
SEQUENCE:0
TRANSP:OPAQUE
END:VEVENT
END:VCALENDAR