BEGIN:VCALENDAR
VERSION:2.0
PRODID:-//jEvents 1.5 for Joomla//EN
CALSCALE:GREGORIAN
METHOD:PUBLISH
BEGIN:VEVENT

UID:1044ed5e852754c01d4226c579b56c21
CATEGORIES:Default
SUMMARY:PRACTICE NIGHT
LOCATION:Northbrook Community Centre, 2 Chapman St., Dartmouth, NS
DESCRIPTION;ENCODING=QUOTED-PRINTABLE:
CONTACT:430-0190
X-EXTRAINFO:   Merry Christmas 
DTSTAMP:20260422T084803Z
DTSTART:20130403T230000Z
DTEND:20130404T020000Z
SEQUENCE:0
RRULE:FREQ=WEEKLY;COUNT=52;INTERVAL=1;BYDAY=WE
TRANSP:OPAQUE
END:VEVENT
END:VCALENDAR